BEGIN:VCALENDAR
VERSION:2.0
PRODID:-//hacksw/handcal//NONSGML v1.0//EN
BEGIN:VEVENT
SUMMARY:3eme tour criterium des ecoles de tir
UID:c49a295e-aab6-4fd9-af8d-75f974247272
DTSTART:20260408T113000Z
DTEND:20260408T160000Z
LOCATION:Localisation   
CATEGORIES:Sportif
STATUS:
URL;VALUE=URI:https://www.alsace-tir-riedisheim.fr/evenements/2026/04/08/3eme-tour-criterium-des-ecoles-de-tir-2439143
END:VEVENT
END:VCALENDAR
